BEGIN:VCALENDAR
VERSION:2.0
PRODID:-//Midwest Conference on Problem Gambling &amp; Substance Abuse - ECPv6.15.20//NONSGML v1.0//EN
CALSCALE:GREGORIAN
METHOD:PUBLISH
X-WR-CALNAME:Midwest Conference on Problem Gambling &amp; Substance Abuse
X-ORIGINAL-URL:https://themidwestconference.org
X-WR-CALDESC:Events for Midwest Conference on Problem Gambling &amp; Substance Abuse
REFRESH-INTERVAL;VALUE=DURATION:PT1H
X-Robots-Tag:noindex
X-PUBLISHED-TTL:PT1H
BEGIN:VTIMEZONE
TZID:UTC
BEGIN:STANDARD
TZOFFSETFROM:+0000
TZOFFSETTO:+0000
TZNAME:UTC
DTSTART:20220101T000000
END:STANDARD
END:VTIMEZONE
BEGIN:VEVENT
DTSTART;VALUE=DATE:20230316
DTEND;VALUE=DATE:20230317
DTSTAMP:20260425T231350
CREATED:20221023T084005Z
LAST-MODIFIED:20221023T084005Z
UID:2983-1678924800-1679011199@themidwestconference.org
SUMMARY:30-Hour Basic Training for Problem Gambling Certification
DESCRIPTION:
URL:https://themidwestconference.org/event/30-hour-basic-training-for-problem-gambling-certification-5/
CATEGORIES:Event
END:VEVENT
END:VCALENDAR