BEGIN:VCALENDAR
VERSION:2.0
PRODID:-//Midwest Conference on Problem Gambling &amp; Substance Abuse - ECPv6.15.20//NONSGML v1.0//EN
CALSCALE:GREGORIAN
METHOD:PUBLISH
X-WR-CALNAME:Midwest Conference on Problem Gambling &amp; Substance Abuse
X-ORIGINAL-URL:https://themidwestconference.org
X-WR-CALDESC:Events for Midwest Conference on Problem Gambling &amp; Substance Abuse
REFRESH-INTERVAL;VALUE=DURATION:PT1H
X-Robots-Tag:noindex
X-PUBLISHED-TTL:PT1H
BEGIN:VTIMEZONE
TZID:America/Chicago
BEGIN:DAYLIGHT
TZOFFSETFROM:-0600
TZOFFSETTO:-0500
TZNAME:CDT
DTSTART:20240310T080000
END:DAYLIGHT
BEGIN:STANDARD
TZOFFSETFROM:-0500
TZOFFSETTO:-0600
TZNAME:CST
DTSTART:20241103T070000
END:STANDARD
BEGIN:DAYLIGHT
TZOFFSETFROM:-0600
TZOFFSETTO:-0500
TZNAME:CDT
DTSTART:20250309T080000
END:DAYLIGHT
BEGIN:STANDARD
TZOFFSETFROM:-0500
TZOFFSETTO:-0600
TZNAME:CST
DTSTART:20251102T070000
END:STANDARD
BEGIN:DAYLIGHT
TZOFFSETFROM:-0600
TZOFFSETTO:-0500
TZNAME:CDT
DTSTART:20260308T080000
END:DAYLIGHT
BEGIN:STANDARD
TZOFFSETFROM:-0500
TZOFFSETTO:-0600
TZNAME:CST
DTSTART:20261101T070000
END:STANDARD
END:VTIMEZONE
BEGIN:VTIMEZONE
TZID:UTC
BEGIN:STANDARD
TZOFFSETFROM:+0000
TZOFFSETTO:+0000
TZNAME:UTC
DTSTART:20210101T000000
END:STANDARD
END:VTIMEZONE
BEGIN:VEVENT
DTSTART;TZID=America/Chicago:20250618T080000
DTEND;TZID=America/Chicago:20250620T170000
DTSTAMP:20260423T140526
CREATED:20240908T054609Z
LAST-MODIFIED:20240908T054614Z
UID:3308-1750233600-1750438800@themidwestconference.org
SUMMARY:2025 Annual Midwest Conference on Problem Gambling and Substance Abuse
DESCRIPTION:
URL:https://themidwestconference.org/event/2025-annual-midwest-conference-on-problem-gambling-and-substance-abuse/
END:VEVENT
BEGIN:VEVENT
DTSTART;VALUE=DATE:20230621
DTEND;VALUE=DATE:20230624
DTSTAMP:20260423T140526
CREATED:20221023T083829Z
LAST-MODIFIED:20221023T083829Z
UID:2981-1687305600-1687564799@themidwestconference.org
SUMMARY:2023 Annual Midwest Conference on Problem Gambling and Substance Abuse
DESCRIPTION:
URL:https://themidwestconference.org/event/2023-annual-midwest-conference-on-problem-gambling-and-substance-abuse/
CATEGORIES:Event
END:VEVENT
BEGIN:VEVENT
DTSTART;VALUE=DATE:20230323
DTEND;VALUE=DATE:20230324
DTSTAMP:20260423T140526
CREATED:20221023T084041Z
LAST-MODIFIED:20221023T084041Z
UID:2985-1679529600-1679615999@themidwestconference.org
SUMMARY:30-Hour Basic Training for Problem Gambling Certification
DESCRIPTION:
URL:https://themidwestconference.org/event/30-hour-basic-training-for-problem-gambling-certification-6/
CATEGORIES:Event
END:VEVENT
BEGIN:VEVENT
DTSTART;VALUE=DATE:20230316
DTEND;VALUE=DATE:20230317
DTSTAMP:20260423T140526
CREATED:20221023T084005Z
LAST-MODIFIED:20221023T084005Z
UID:2983-1678924800-1679011199@themidwestconference.org
SUMMARY:30-Hour Basic Training for Problem Gambling Certification
DESCRIPTION:
URL:https://themidwestconference.org/event/30-hour-basic-training-for-problem-gambling-certification-5/
CATEGORIES:Event
END:VEVENT
BEGIN:VEVENT
DTSTART;VALUE=DATE:20221028
DTEND;VALUE=DATE:20221029
DTSTAMP:20260423T140526
CREATED:20221023T084110Z
LAST-MODIFIED:20221026T013627Z
UID:2987-1666915200-1667001599@themidwestconference.org
SUMMARY:30-Hour Basic Training for Problem Gambling Certification
DESCRIPTION:
URL:https://themidwestconference.org/event/30-hour-basic-training-for-problem-gambling-certification-8/
CATEGORIES:Event
END:VEVENT
BEGIN:VEVENT
DTSTART;VALUE=DATE:20221021
DTEND;VALUE=DATE:20221022
DTSTAMP:20260423T140526
CREATED:20221023T084101Z
LAST-MODIFIED:20221026T013637Z
UID:2986-1666310400-1666396799@themidwestconference.org
SUMMARY:30-Hour Basic Training for Problem Gambling Certification
DESCRIPTION:
URL:https://themidwestconference.org/event/30-hour-basic-training-for-problem-gambling-certification-7/
CATEGORIES:Event
END:VEVENT
BEGIN:VEVENT
DTSTART;TZID=UTC:20220616T090000
DTEND;TZID=UTC:20220616T160000
DTSTAMP:20260423T140526
CREATED:20220130T111452Z
LAST-MODIFIED:20220204T043416Z
UID:2690-1655370000-1655395200@themidwestconference.org
SUMMARY:“Building Hope in Recovery” - Day Two
DESCRIPTION:Day 2: Thursday\, June 16 – 2022 MCPGSA Conference
URL:https://themidwestconference.org/event/building-hope-in-recovery-day-two/
LOCATION:VIRTUAL
END:VEVENT
BEGIN:VEVENT
DTSTART;TZID=UTC:20220615T090000
DTEND;TZID=UTC:20220615T160000
DTSTAMP:20260423T140526
CREATED:20220130T111120Z
LAST-MODIFIED:20220204T043504Z
UID:2686-1655283600-1655308800@themidwestconference.org
SUMMARY:“Building Hope in Recovery” - Day One
DESCRIPTION:Day 1: Wednesday\, June 15 – 2022 MCPGSA Conference
URL:https://themidwestconference.org/event/building-hope-in-recovery-day-one/
LOCATION:VIRTUAL
END:VEVENT
BEGIN:VEVENT
DTSTART;VALUE=DATE:20220610
DTEND;VALUE=DATE:20220611
DTSTAMP:20260423T140526
CREATED:20220204T051417Z
LAST-MODIFIED:20220204T051417Z
UID:2734-1654819200-1654905599@themidwestconference.org
SUMMARY:2022 MCPGSA Conference Registration Deadline
DESCRIPTION:
URL:https://themidwestconference.org/event/2022-mcpgsa-conference-registration-deadline/
END:VEVENT
BEGIN:VEVENT
DTSTART;TZID=UTC:20220513T083000
DTEND;TZID=UTC:20220513T163000
DTSTAMP:20260423T140526
CREATED:20220204T044234Z
LAST-MODIFIED:20220204T044234Z
UID:2730-1652430600-1652459400@themidwestconference.org
SUMMARY:30-Hour Basic Training for Problem Gambling Certification
DESCRIPTION:
URL:https://themidwestconference.org/event/30-hour-basic-training-for-problem-gambling-certification-4/
END:VEVENT
BEGIN:VEVENT
DTSTART;TZID=UTC:20220506T083000
DTEND;TZID=UTC:20220506T163000
DTSTAMP:20260423T140526
CREATED:20220204T044107Z
LAST-MODIFIED:20220204T044330Z
UID:2728-1651825800-1651854600@themidwestconference.org
SUMMARY:30-Hour Basic Training for Problem Gambling Certification
DESCRIPTION:
URL:https://themidwestconference.org/event/30-hour-basic-training-for-problem-gambling-certification-3/
END:VEVENT
BEGIN:VEVENT
DTSTART;TZID=UTC:20220422T083000
DTEND;TZID=UTC:20220422T163000
DTSTAMP:20260423T140526
CREATED:20220204T043938Z
LAST-MODIFIED:20220204T043938Z
UID:2726-1650616200-1650645000@themidwestconference.org
SUMMARY:30-Hour Basic Training for Problem Gambling Certification
DESCRIPTION:
URL:https://themidwestconference.org/event/30-hour-basic-training-for-problem-gambling-certification-2/
END:VEVENT
BEGIN:VEVENT
DTSTART;TZID=UTC:20220415T083000
DTEND;TZID=UTC:20220415T163000
DTSTAMP:20260423T140526
CREATED:20220204T043721Z
LAST-MODIFIED:20220204T043721Z
UID:2724-1650011400-1650040200@themidwestconference.org
SUMMARY:30-Hour Basic Training for Problem Gambling Certification
DESCRIPTION:
URL:https://themidwestconference.org/event/30-hour-basic-training-for-problem-gambling-certification/
END:VEVENT
BEGIN:VEVENT
DTSTART;VALUE=DATE:20220207
DTEND;VALUE=DATE:20220208
DTSTAMP:20260423T140526
CREATED:20220204T051235Z
LAST-MODIFIED:20220204T051235Z
UID:2732-1644192000-1644278399@themidwestconference.org
SUMMARY:Call for Proposal Deadline
DESCRIPTION:
URL:https://themidwestconference.org/event/call-for-proposal-deadline/
END:VEVENT
END:VCALENDAR