BEGIN:VCALENDAR
VERSION:2.0
PRODID:-//Midwest Conference on Problem Gambling &amp; Substance Abuse - ECPv6.15.20//NONSGML v1.0//EN
CALSCALE:GREGORIAN
METHOD:PUBLISH
X-WR-CALNAME:Midwest Conference on Problem Gambling &amp; Substance Abuse
X-ORIGINAL-URL:https://themidwestconference.org
X-WR-CALDESC:Events for Midwest Conference on Problem Gambling &amp; Substance Abuse
REFRESH-INTERVAL;VALUE=DURATION:PT1H
X-Robots-Tag:noindex
X-PUBLISHED-TTL:PT1H
BEGIN:VTIMEZONE
TZID:America/Chicago
BEGIN:DAYLIGHT
TZOFFSETFROM:-0600
TZOFFSETTO:-0500
TZNAME:CDT
DTSTART:20250309T080000
END:DAYLIGHT
BEGIN:STANDARD
TZOFFSETFROM:-0500
TZOFFSETTO:-0600
TZNAME:CST
DTSTART:20251102T070000
END:STANDARD
BEGIN:DAYLIGHT
TZOFFSETFROM:-0600
TZOFFSETTO:-0500
TZNAME:CDT
DTSTART:20260308T080000
END:DAYLIGHT
BEGIN:STANDARD
TZOFFSETFROM:-0500
TZOFFSETTO:-0600
TZNAME:CST
DTSTART:20261101T070000
END:STANDARD
BEGIN:DAYLIGHT
TZOFFSETFROM:-0600
TZOFFSETTO:-0500
TZNAME:CDT
DTSTART:20270314T080000
END:DAYLIGHT
BEGIN:STANDARD
TZOFFSETFROM:-0500
TZOFFSETTO:-0600
TZNAME:CST
DTSTART:20271107T070000
END:STANDARD
END:VTIMEZONE
BEGIN:VEVENT
DTSTART;TZID=America/Chicago:20260617T080000
DTEND;TZID=America/Chicago:20260619T170000
DTSTAMP:20260423T065929
CREATED:20251116T204352Z
LAST-MODIFIED:20260228T184602Z
UID:3428-1781683200-1781888400@themidwestconference.org
SUMMARY:2026 Annual Midwest Conference on Problem Gambling and Substance Abuse
DESCRIPTION:
URL:https://themidwestconference.org/event/2026-annual-midwest-conference-on-problem-gambling-and-substance-abuse/
CATEGORIES:Event
END:VEVENT
END:VCALENDAR