BEGIN:VCALENDAR
VERSION:2.0
PRODID:-//Midwest Conference on Problem Gambling &amp; Substance Abuse - ECPv6.15.20//NONSGML v1.0//EN
CALSCALE:GREGORIAN
METHOD:PUBLISH
X-WR-CALNAME:Midwest Conference on Problem Gambling &amp; Substance Abuse
X-ORIGINAL-URL:https://themidwestconference.org
X-WR-CALDESC:Events for Midwest Conference on Problem Gambling &amp; Substance Abuse
REFRESH-INTERVAL;VALUE=DURATION:PT1H
X-Robots-Tag:noindex
X-PUBLISHED-TTL:PT1H
BEGIN:VTIMEZONE
TZID:UTC
BEGIN:STANDARD
TZOFFSETFROM:+0000
TZOFFSETTO:+0000
TZNAME:UTC
DTSTART:20210101T000000
END:STANDARD
END:VTIMEZONE
BEGIN:VEVENT
DTSTART;TZID=UTC:20220415T083000
DTEND;TZID=UTC:20220415T163000
DTSTAMP:20260423T155504
CREATED:20220204T043721Z
LAST-MODIFIED:20220204T043721Z
UID:2724-1650011400-1650040200@themidwestconference.org
SUMMARY:30-Hour Basic Training for Problem Gambling Certification
DESCRIPTION:
URL:https://themidwestconference.org/event/30-hour-basic-training-for-problem-gambling-certification/
END:VEVENT
BEGIN:VEVENT
DTSTART;VALUE=DATE:20220207
DTEND;VALUE=DATE:20220208
DTSTAMP:20260423T155504
CREATED:20220204T051235Z
LAST-MODIFIED:20220204T051235Z
UID:2732-1644192000-1644278399@themidwestconference.org
SUMMARY:Call for Proposal Deadline
DESCRIPTION:
URL:https://themidwestconference.org/event/call-for-proposal-deadline/
END:VEVENT
END:VCALENDAR